BEGIN:VCALENDAR
VERSION:2.0
PRODID:-//Sabre//Sabre VObject 4.5.8//EN
CALSCALE:GREGORIAN
BEGIN:VEVENT
UID:sabre-vobject-6d29ba2b-b0d7-4643-98d7-daaa0ab6b95f
DTSTAMP:20260421T082332Z
SUMMARY:Chrüzlinger Fäscht
DESCRIPTION:Ein Fest der Nationen: Mit Tanz\, Gesang und verschiedenen Darb
 ietungen präsentieren sich die teilnehmenden Länder und lokale Tanzschul
 en.\nEin buntes und abwechslungsreiches Programm für die ganze Familie.
LOCATION:Boulevard Kreuzlingen\, Hauptstrasse\, 8280 Kreuzlingen
DTSTART;TZID=Europe/Zurich:20260620T110000
DTEND;TZID=Europe/Zurich:20260621T000000
ORGANIZER:Stadt Kreuzlingen
END:VEVENT
END:VCALENDAR
