BEGIN:VCALENDAR
VERSION:2.0
PRODID:-//Sabre//Sabre VObject 4.5.8//EN
CALSCALE:GREGORIAN
BEGIN:VEVENT
UID:sabre-vobject-63f2fbad-c965-422c-a129-bd9be1951ad8
DTSTAMP:20260421T010242Z
SUMMARY:Anna Rossinelli - Heat Tour 2026
DESCRIPTION:Unter anderem Seewen\, Mels\, Wetzikon – kleine Orte\, grosse
  Abende. So viel Nähe\, Musik\, Verbundenheit. Es war einfach wundervoll!
  Jetzt geht es weiter: Mit dem neuen Album «Heat» (VÖ Ende 2025) geht A
 nna Rossinelli ab Februar 2026 wieder auf Tour durch die Deutschschweiz.\n
 Neue Songs treffen auf vertraute Hits\, Geschichten auf handgemachte Musik
 \, elektronische Beats auf zerbrechliche Momente. Anna Rossinelli gehört 
 seit 15 Jahren zu den unverkennbaren Stimmen der Schweizer Musikszene. Neb
 en ihrer musikalischen Laufbahn überzeugte sie auch am TV: Als Coach bei 
 «The Voice of Switzerland» und als Fedpol-Agentin Annette Brotz in der E
 rfolgsserie «Tschugger». Nun kehrt sie mit ihrer Band zurück auf die B
 ühnen\, um mit ihren Fans das neue Album zu zelebrieren: \\n\\n«Ich will
 \, dass man für zwei Stunden alles andere vergisst. Dass es leicht sein d
 arf. Und echt.» \\n\\nDie «Heat Tour» bringt das\, was zählt: Eine Ban
 d\, die miteinander atmet. Eine Stimme\, die berührt so klar und kraftvol
 l\, wie keine andere! Und Abende\, die sich anfühlen\, wie Musik zum Anle
 hnen.
LOCATION:Kulturzentrum Presswerk\, Hamelstrasse 15\, 9320 Arbon
DTSTART;TZID=Europe/Zurich:20261120T200000
DTEND;TZID=Europe/Zurich:20261120T200000
ORGANIZER:Ticketcorner
END:VEVENT
END:VCALENDAR
