BEGIN:VCALENDAR
VERSION:2.0
PRODID:-//Sabre//Sabre VObject 4.5.8//EN
CALSCALE:GREGORIAN
BEGIN:VEVENT
UID:sabre-vobject-5ef31a4e-d514-4e76-87a1-88e132d136f3
DTSTAMP:20260421T100022Z
SUMMARY:Spatz und Engel
DESCRIPTION:Was nur wenige wissen: Edith Piaf und Marlene Dietrich\, zwei G
 öttinnen im Olymp des Chansons\, die gegensätzlicher kaum sein könnten\
 , begegneten sich 1948 in New York und schlossen abseits von Presse und Ö
 ffentlichkeit Freundschaft. Der «Spatz von Paris» und der «blaue Engel
 » – zwei kapriziöse Diven\, verbunden durch überragende künstlerisch
 e Erfolge und private Skandale. Der szenisch musikalische Reigen mit Welte
 rfolgen wie «La vie en rose»\, «Je ne regrette rien» oder «Frag nicht
 \, warum ich gehe» und «I wish you love» entführt in eine Epoche des k
 lassischen Chansons voller Eleganz\, Leidenschaft und Melancholie.\nDie Ge
 schichte von «Spatz und Engel» wird musikalisch nicht nur untermalt\, so
 ndern dank der dramaturgisch durchdachten Auswahl glänzend live präsenti
 erter Hits auch äusserst raffiniert gesanglich weitererzählt. Paraderoll
 en für zwei Vollblutschauspielerinnen!\n \nMit Heleen Joor als Edith Pia
 f\\nSusanne Rader als Marlene Dietrich\\nArzu Ermen / Susanne Theil\, Stef
 fen Wilhelm\nMusikalische Leitung\, Klavier: Cordula Hacke\\nAkkordeon: Va
 ssily Dück\nRegie: Daniel Große Boymann\n 
LOCATION:Kongresszentrum Thurgauerhof\, Felsenstrasse 6\, 8570 Weinfelden
DTSTART;TZID=Europe/Zurich:20260511T200000
DTEND;TZID=Europe/Zurich:20260511T220000
ORGANIZER:Theater Konzerte Weinfelden
END:VEVENT
END:VCALENDAR
