BEGIN:VCALENDAR
VERSION:2.0
PRODID:-//Sabre//Sabre VObject 4.5.8//EN
CALSCALE:GREGORIAN
BEGIN:VEVENT
UID:sabre-vobject-1e39fbc2-3145-428f-84ce-802b1702da1d
DTSTAMP:20260421T100024Z
SUMMARY:Pippo Pollina
DESCRIPTION:Pippo Pollina\, der vielseitige sizilianische Musiker\, ist als
  einer der kreativsten Künstler in der europäischen Singer-Songwriter-Sz
 ene seit mehr als dreissig Jahren unterwegs. Unzählige Plattenproduktione
 n\, internationale Tourneen\, prestigeträchtige Kollaborationen verleihen
  ihm einen besonderen Status\, den er sich durch Kontinuität und Engageme
 nt sowohl im Studio als auch live auf der Bühne erarbeitet hat. Begleitet
  von der Cellistin Cecile Grüebler\, der Pianistin Elisa Sandrini und dem
  Klarinettisten Roberto Petroli bringt er im Januar 2026 ein neues Album h
 eraus und geht mit diesem kammermusikalischen Projekt auf Tour.\nPippo Pol
 lina wird 1963 in Palermo in eine bürgerliche Familie bäuerlicher Herkun
 ft hineingeboren. Schon von klein auf zeigt er Gefallen und Interesse am G
 esang. Nach dem staatlichen Gymnasium besucht er die Universität in Paler
 mo und studiert Rechtswissenschaften sowie am musischen Konservatorium Ami
 ci della musica klassische Gitarre und Musiktheorie. Bis heute hat sein vi
 elseitiges musikalisches Œuvre beeindruckende Dimensionen erreicht.\n \n
 Pippo Pollina\, Gitarre\, Gesang\nCecile Grüebler\, Cello\nElisa Sandrini
 \, Piano\nRoberto Petroli\, Klarinette
LOCATION:Rathaussaal Weinfelden\, Rathausstrasse 2\, 8570 Weinfelden
DTSTART;TZID=Europe/Zurich:20260506T193000
DTEND;TZID=Europe/Zurich:20260506T213000
ORGANIZER:Theater Konzerte Weinfelden
END:VEVENT
END:VCALENDAR
