BEGIN:VCALENDAR
VERSION:2.0
PRODID:-//Sabre//Sabre VObject 4.5.8//EN
CALSCALE:GREGORIAN
BEGIN:VEVENT
UID:sabre-vobject-f0c93994-9a49-476c-9e1f-71bc84383202
DTSTAMP:20260421T062617Z
SUMMARY:Martina Schwarzmann
DESCRIPTION:«Martina Schwarzmann macht was sie will» – so heisst ihr ne
 ues Programm und jetzt zieht sie’s durch! Was sie an dem Abend machen wi
 rd\, überlegt sie sich noch.\nVielleicht spielt sie was Neues\, vielleich
 t aber auch ein paar Klassiker\, die so alt sind\,\ndass sich keiner mehr 
 dran erinnern kann …\nIst das wahr? Wer weiss?\nWoher will man auch wiss
 en\, was man in einem halben Jahr möchte oder am nächsten Tag …\nUnd d
 as macht sie dann: sie spielt für euch! Aus Liebe mit Leidenschaft\, um d
 ie Freude\, den Frieden und den Eierkuchen in euer Leben zu bringen. Sie s
 pielt für alle und es geht um alles!\nWenn Martina nicht gerade ihre wild
 en Kinder bändigt oder ihrem Mann auf dem Acker hilft\, dann sitzt sie ma
 nchmal da und schaut\, das ist auch schön. Denn wenn man gscheit schaut\,
  dann sieht man immer was\, worüber man mal dringend ein Lied schreiben s
 ollte.\nGut und zeitlos sind nur zwei „Wiewörter“\, die man in einem 
 Aufsatz über sie benutzen\nkönnte.\nMartina Schwarzmann ist im Oberbayri
 schen auf einem landwirtschaftlichen Betrieb aufgewachsen\, hat im Bayeris
 chen Hof eine Ausbildung zur Köchin durchlaufen und widmet sich seit dem 
 Jahr 2000 als Kabarettistin ihrer Bühnentätigkeit.\n \nsüdpolmusic Gmb
 H
LOCATION:Kongresszentrum Thurgauerhof\, Felsenstrasse 6\, 8570 Weinfelden
DTSTART;TZID=Europe/Zurich:20260425T200000
DTEND;TZID=Europe/Zurich:20260425T220000
ORGANIZER:Theater Konzerte Weinfelden
END:VEVENT
END:VCALENDAR
