BEGIN:VCALENDAR
VERSION:2.0
PRODID:-//Sabre//Sabre VObject 4.5.8//EN
CALSCALE:GREGORIAN
BEGIN:VEVENT
UID:sabre-vobject-75ad2ed3-e571-48c8-b1f2-be8bafd02692
DTSTAMP:20260421T164202Z
SUMMARY:Autorenlesung - Lukas Niederberger liest aus seinem neuen Buch
DESCRIPTION:»Von nichts kommt nichts.« »Ohne Fleiß kein Preis.« »Erst
  die Arbeit\, dann das Vergnügen.« »Müßiggang ist aller Laster Anfang
 .« Redensarten wie diese zeugen von der tief verankerten Arbeitsmoral\, d
 ie unser Denken und Handeln prägt. Für Arbeit und Tempo\, Leistung und F
 leiß gibt es Anerkennung und Belohnung. Fürs vermeintliche Trödeln und 
 Faulenzen werden wir schief angeschaut.\nDieses Buch stellt vermeintliche 
 Laster wie Lust und Genuss\, Langsamkeit und Langeweile\, Muße und Müßi
 ggang in ein neues Licht. Dieser Perspektivenwechsel soll ermöglichen\, v
 om Tun zum Sein und vom Leisten zum Leben zu gelangen. Im Leistungsmodus s
 ind wir auf die Zukunft ausgerichtet und konzentrieren uns auf das Erreich
 en bestimmter Ziele. Im Seins-Modus sind wir in der Gegenwart präsent\, a
 kzeptieren Dinge und Situationen\, wie sie sind\, und pflegen das\, was un
 s im Hier und Jetzt Freude\, Lebendigkeit und Sinn schenkt.\nLukas Niederb
 erger\, geboren 1964\, ist in Wil SG aufgewachsen und studierte Philosophi
 e in München und Theologie in Paris. Im Alter von 21 bis 43 Jahren war er
  Mitglied im Jesuitenorden. Von 1995-2007 leitete er das Bildungszentrum L
 assalle-Haus. Und als Geschäftsleiter der Schweizerischen Gemeinnützigen
  Gesellschaft förderte und erforschte er von 2013-2022 den sozialen Zusam
 menhalt und zivilgesellschaftliches Engagement in der Schweiz. Heute leite
 t er das spirituelle Seminarzentrum Landguet Ried bei Bern. Seit 30 Jahren
  wirkt er als Autor\, Referent\, Kursleiter\, Ritualbegleiter und Berater.
LOCATION:Zentrum St. Franziskus\, Franziskus-Weg 3\, 8570 Weinfelden
DTSTART;TZID=Europe/Zurich:20260422T191500
DTEND;TZID=Europe/Zurich:20260422T210000
ORGANIZER:Kirchliche Erwachsenenbildung der Kath. Landeskirche Thurgau
END:VEVENT
END:VCALENDAR
