BEGIN:VCALENDAR
VERSION:2.0
PRODID:-//Sabre//Sabre VObject 4.5.8//EN
CALSCALE:GREGORIAN
BEGIN:VEVENT
UID:sabre-vobject-bd9f0cee-4287-4a1d-b945-a54ca89dbb8d
DTSTAMP:20260425T000506Z
SUMMARY:Berufsmesse Thurgau
DESCRIPTION:Die Berufsmesse Thurgau bietet die Möglichkeit\, Berufe hautna
 h kennen zu lernen\; ob in der Klasse\, mit den Eltern und Erziehungsberec
 htigten oder alleine. Hier können Talente entdeckt\, Gespräche mit Beruf
 sleuten und Lernenden geführt und Informationen zu Ausbildungsmöglichkei
 ten gesammelt werden. So beginnt der Weg in die eigene Karriere.
LOCATION:BBZ Berufsbildungszentrum Weinfelden\, Schützenstrasse 9\, 8570 W
 einfelden
DTSTART;TZID=Europe/Zurich:20260917T090000
DTEND;TZID=Europe/Zurich:20260917T170000
ORGANIZER:Genossenschaft MESSEN WEINFELDEN
END:VEVENT
END:VCALENDAR
