BEGIN:VCALENDAR
VERSION:2.0
PRODID:-//Sabre//Sabre VObject 4.5.8//EN
CALSCALE:GREGORIAN
BEGIN:VEVENT
UID:sabre-vobject-796017db-057f-48a6-ae50-6a8342885936
DTSTAMP:20260421T043858Z
SUMMARY:Kreatives Gedichte Schreiben
DESCRIPTION:Schreiben im Haus der Poesie!\\nGedichte mit Reim\, ohne Reim\,
  solche die ausfransen und solche\, die einem strengen Muster folgen - all
 es kann probiert werden. Dabei interessieren nicht so sehr Fachbegriffe\, 
 sondern viel mehr\, wie so etwas möglich ist. Im Haus der Poesie gibt es 
 Räume für alles:\nkurze poetische Texte\, die berühren\\nKunst und Kits
 ch auf der Kippe\\nkantige und weiche Formen für das Besondere im Gedicht
 \\nTipps\, Tricks und viel Anregung zum selber Schreiben\nLeitung: Michèl
 e Minelli\, Schriftstellerin und eidg. dipl. Ausbildungsleiterin (Schreibw
 erk Ost)
LOCATION:Schreibwerk Ost\, Iselisberg 14\, 8524 Uesslingen
DTSTART;TZID=Europe/Zurich:20260704T101500
DTEND;TZID=Europe/Zurich:20260704T181500
ORGANIZER:Schreibwerk Ost
END:VEVENT
END:VCALENDAR
