BEGIN:VCALENDAR
VERSION:2.0
PRODID:-//Sabre//Sabre VObject 4.5.8//EN
CALSCALE:GREGORIAN
BEGIN:VEVENT
UID:sabre-vobject-a69eb934-56b1-402b-970d-28b0e40fa279
DTSTAMP:20260421T113614Z
SUMMARY:Markus Schönholzer - Die Schönholzers
DESCRIPTION:Seit vielen Jahren ist er unterwegs und wurde jetzt ausgezeichn
 et:\nMarkus Schönholzer erhält den Salzburger Stier 2026.\nIn seinen Sol
 oprogrammen auf den Theater-Bühnen ignoriert er Genregrenzen souverän un
 d zeichnet sich als sympathischer Entertainer aus.\nDer Sänger und Gitarr
 ist Markus Schönholzer nimmt in seinem neusten Solo-Programm seine ganze 
 Familie mit auf die Bühne. Aus Tantengeträller\, Mutterliebe\, Vaterbefe
 hlen und Bruderblues dichtet er sich eine bunte Vergangenheit. Auf seiner 
 wundersamen Reise in vergangene Tage sammelt er neue Erkenntnisse und baut
  daraus heitere Songs für die Gegenwart.\nDieser Abend enthält alles\, w
 as jede gute Familie zu bieten hat: schmutzige Wäsche\, Eifersucht\, Ämt
 lilisten und viel viel Liebe – Perfekt für einen unterhaltsamen Abend f
 ür Familien und Paare.\nVon und mit: Markus Schönholzer\\nRegie: Paul St
 einmann
LOCATION:Kulturforum Amriswil\, Bahnhofstrasse 22 22\, 8580 Amriswil
DTSTART;TZID=Europe/Zurich:20260424T201500
DTEND;TZID=Europe/Zurich:20260424T223000
ORGANIZER:Kulturforum Amriswil
END:VEVENT
END:VCALENDAR
