BEGIN:VCALENDAR
VERSION:2.0
PRODID:-//Sabre//Sabre VObject 4.5.8//EN
CALSCALE:GREGORIAN
BEGIN:VEVENT
UID:sabre-vobject-d36bc33d-db0c-404b-ac22-bbab2ec08a71
DTSTAMP:20260421T123817Z
SUMMARY:Pippi feiert Geburtstag
DESCRIPTION:Knallige Lieder\, jede Menge Spass und kunterbuntes Treiben –
  das wohl bekannteste Mädchen mit den roten Zöpfen feiert Geburtstag! Pi
 ppi und ihre Freunde kehren ab Oktober 2025 erneut auf die Schweizer Bühn
 en zurück.\n \nZum Geburtstag hat Pippi ihre Freunde Tommy und Annika ei
 ngeladen. Zusammen erleben sie Schiffbruch\, suchen auf dem Dachboden der 
 Villa Kunterbunt nach Gespenstern und essen den weltweit allerbesten Gebur
 tstagskuchen. Doch was wollen die beiden Ganoven Blom und Donner-Karlsson?
  Pippi zum Geburtstag gratulieren? Oder vielleicht Pippis Koffer mit Goldm
 ünzen stehlen?\n \nEin buntes\, spannendes Bühnenspektakel mit toller M
 usik und fabelhaften Darstellenden. Ein Riesenspass für Gross und Klein\,
  wunderbar inszeniert von Brigitt Maag.\n \nGeschichte: Astrid Lindgren\,
  Buch &amp\; Regie: Brigitt Maag\\nSprache: Mundart\\nDauer: ca. 70 Minute
 n (ohne Pause)\\nAlter: empfohlen ab ca. 5 Jahren\\nProduktion und Veranst
 alter: bybalzer
LOCATION:Stadtsaal\, Bahnhofplatz 6\, 9500 Wil
DTSTART;TZID=Europe/Zurich:20260425T140000
DTEND;TZID=Europe/Zurich:20260425T151000
ORGANIZER:Balzer Event GmbH
END:VEVENT
END:VCALENDAR
