BEGIN:VCALENDAR
VERSION:2.0
PRODID:-//Sabre//Sabre VObject 4.5.8//EN
CALSCALE:GREGORIAN
BEGIN:VEVENT
UID:sabre-vobject-6c93d524-d06c-4972-8311-5edee8e41786
DTSTAMP:20260421T084245Z
SUMMARY:Perlen\, Draht und Fantasie - kreiere deinen Schmuck
DESCRIPTION:Hier werden eigene Ideen in einzigartige Schmuckstücke umgeset
 zt. Die Teilnehmenden erhalten eine Einführung in Grundtechniken wie Drah
 t bieten\, Perlen und Steine einfädeln sowie einfache Formen herstellen. 
 Dabei werden Feinmotorik\, Kreativität und handwerkliches Geschick geför
 dert. Danach sind der Fantasie keine Grenzen gesetzt. Da kann Zauberhaftes
  und Wunderschönes entstehen. Es können sogar erste Erfahrungen als Unte
 rnehmer:in gemacht und Tipps und Tricks geholt werden\, wie die eigene Kol
 lektion vermarktet werden kann.
LOCATION:Talenticum\, Bahnhofstrasse 40a\, 8590 Romanshorn
DTSTART;TZID=Europe/Zurich:20260701T134500
DTEND;TZID=Europe/Zurich:20260701T154500
ORGANIZER:Talenticum
END:VEVENT
END:VCALENDAR
