BEGIN:VCALENDAR
VERSION:2.0
PRODID:-//Sabre//Sabre VObject 4.5.8//EN
CALSCALE:GREGORIAN
BEGIN:VEVENT
UID:sabre-vobject-ada4440b-c2e4-4dc0-8ea3-655c77243ead
DTSTAMP:20260423T101819Z
SUMMARY:Kalles Kaviar
DESCRIPTION:Was in den 90iger Jahren in den Köpfen – und auf den Bierdec
 keln – zweier Basler Freunde entstand\, ist aus der Schweizer Musikszene
  nicht mehr wegzudenken. Vom besetztem Haus in Genf bis zu Auftritten als 
 Begleitband von Roy Ellis alias Mr. Symarip und internationalen Festivalsh
 ows in Frankreich\, Deutschland und Spanien: Die acht Herren haben den Ska
 \, Rocksteady und Early Reggae im Blut\, verströmen gute Vibes und bringe
 n mit ihrer leidenschaftlichen Hommage an die Wurzeln des Ska jedes Publik
 um zum Tanzen.\nMit «Nine Feet Tall» präsentiert Kalles Kaviar im Früh
 jahr 2026 ihren neunten Tonträger und setzt damit nicht nur ihre musikali
 sche Erfolgsgeschichte fort\, sondern wächst regelrecht über sich hinaus
 .\nAufgenommen im Moonlitegroover Studio demonstriert die Band in den 12 S
 ongs ihr tiefes Verständnis für traditionellen Ska\, Rocksteady und Earl
 y Reggae mit Soulkante. Die dienstälteste Schweizer Ska-Band überzeugt m
 it treibendem Bass und Beat sowie hinreissenden Bläser- und Gesangsharmon
 ien.\nWer die Band auf der Bühne erlebt hat\, weiss warum: Bei Kalles Kav
 iar werden die Tanzbeine länger und länger. Die Party sowieso\, denn die
  geht bekanntlich immer in die Verlängerung. Egal ob live oder ab Konserv
 e - garantiert wird ein musikalisches Erlebnis\, das die Beine in Schwung 
 versetzt und das Herz erwärmt.
LOCATION:Bild-Rauschen-Studio\, Industriestrasse 6a\, 8575 Bürglen TG
DTSTART;TZID=Europe/Zurich:20260613T201500
DTEND;TZID=Europe/Zurich:20260613T201500
ORGANIZER:Verein Kulturrausch
END:VEVENT
END:VCALENDAR
