BEGIN:VCALENDAR
VERSION:2.0
PRODID:-//Sabre//Sabre VObject 4.5.8//EN
CALSCALE:GREGORIAN
BEGIN:VEVENT
UID:sabre-vobject-a0cc7f8e-18aa-466b-9dfd-d8c03df18ed3
DTSTAMP:20260423T115920Z
SUMMARY:Tanzvergnügen
DESCRIPTION:Dieses Angebot richtet sich an alle\, die keine Choreographien 
 lernen wollen\, sondern sich einfach frei und ungezwungen zu zeitlosen Hit
 s der 20er bis 70er Jahre bewegen möchten. Nach kurzem Aufwärmen wird zu
  Swing\, Pop\, Rock‘n‘Roll und vielem mehr getanzt\, jede:r für sich\
 , frei und intuitiv. Dabei gibt es kein richtig oder falsch\, die Freude a
 n Bewegung und Musik steht im Vordergrund.\nDie Stunden bauen nicht aufein
 ander auf und können einzeln besucht werden. Es ist keine Anmeldung erfor
 derlich. Es wird in bequemer Kleidung getanzt\, barfuss oder in Socken.\nA
 lle Interessierten sind herzlich willkommen\, unabhängig von Alter oder T
 anzerfahrung.\nStallungen Süd 4B \\nOffener Bewegungsraum
LOCATION:Stadtkaserne Frauenfeld\, Bahnhofplatz 78\, 8500 Frauenfeld
DTSTART;TZID=Europe/Zurich:20260616T164500
DTEND;TZID=Europe/Zurich:20260616T173000
ORGANIZER:Sophie Fritsche
END:VEVENT
END:VCALENDAR
