BEGIN:VCALENDAR
VERSION:2.0
PRODID:-//Sabre//Sabre VObject 4.5.8//EN
CALSCALE:GREGORIAN
BEGIN:VEVENT
UID:sabre-vobject-bce265e8-d235-43e5-b92a-3751c36c6c28
DTSTAMP:20260421T010242Z
SUMMARY:Lunik
DESCRIPTION:Lunik\, bekannt für ihren unverwechselbaren Mix aus Pop\, Elek
 tronik und melancholischer Tiefe\, prägte die Schweizer Musiklandschaft d
 er 2000er-Jahre entscheidend mit. Ihre Alben erreichten Gold- und Platinst
 atus\, Songs wie “Through Your Eyes”\, “Little Bit” oder “The Mo
 st Beautiful Song” wurden zu zeitlosen Klassikern.\nIhre Konzerte sind b
 ekannt für atmosphärische Gesamtkunstwerke aus Klang und Licht\, die das
  Publikum berühren und begeistern. Ab Ende März 2026 wird Lunik in ausg
 ewählten Städten der Schweiz zu erleben sein. Der musikalische Schwerpun
 kt liegt auf den alten Klassikern der Trip-Hop Ära (Alben “Rumour”\, 
 “Ahead” und “Weather”)\, ergänzt durch die beliebtesten Lunik-Hit
 s. Fans dürfen sich auf eine emotionale Reise durch das musikalische Univ
 ersum der Band lunik freuen.
LOCATION:Kulturzentrum Presswerk\, Hamelstrasse 15\, 9320 Arbon
DTSTART;TZID=Europe/Zurich:20260424T200000
DTEND;TZID=Europe/Zurich:20260424T200000
ORGANIZER:Ticketcorner
END:VEVENT
END:VCALENDAR
