BEGIN:VCALENDAR
VERSION:2.0
PRODID:-//Sabre//Sabre VObject 4.5.8//EN
CALSCALE:GREGORIAN
BEGIN:VEVENT
UID:sabre-vobject-a0f73069-9349-42fd-afa4-58e92c55968c
DTSTAMP:20260421T114749Z
SUMMARY:Lara Stoll - „Volume 5 – Die Rückkehr“
DESCRIPTION:Sie ist zurück! Die Spoken Word Virtuosin und Preisträgerin d
 es Salzburger Stiers vereint in ihrem fünften Soloprogramm Comedy und Poe
 sie\, wie man es von keiner anderen kennt.\nTiefsinnig\, absurd und ungest
 üm arbeitet sie sich an der Schweiz - und wie man sich in ihr zu bewegen 
 hat - ab. Wie werden wir älter? Wie schlägt sich Lara Stoll im Strassenv
 erkehr? Und was haben Salatbuffets mit all dem zu tun?\nDas Publikum darf 
 sich auf einen kunterbunten Abend gefasst machen. Upgejazzt wird ausserdem
  mit Hupen\, Posaune und Saxofon!
LOCATION:Kulturforum Amriswil\, Bahnhofstrasse 22 22\, 8580 Amriswil
DTSTART;TZID=Europe/Zurich:20260619T201500
DTEND;TZID=Europe/Zurich:20260619T223000
ORGANIZER:Kulturforum Amriswil
END:VEVENT
END:VCALENDAR
