BEGIN:VCALENDAR
VERSION:2.0
PRODID:-//Sabre//Sabre VObject 4.5.8//EN
CALSCALE:GREGORIAN
BEGIN:VEVENT
UID:sabre-vobject-6fde1c10-5bdd-4144-a6de-933bf73baa45
DTSTAMP:20260421T084327Z
SUMMARY:Kreativ-Werkstatt
DESCRIPTION:Beim Malen\, Skizzieren\, Drucken\, Buchbinden\, Modellieren u.
 v.m. werden die verschiedenen Techniken\, Effekte und Materialien von Blei
 stift\, Kohle\, Ölkreiden über Tusche und Aquarell bis hin zu kunstvolle
 n Skulpturen oder Gegenständen aus Modellier-Ton oder gar musikalischem T
 on entdeckt …\nAuch für freie gestalterische Bewegung mit Sound ist hie
 r Raum genug … denn wer sagt denn\, dass Farben nur zum Malen sind? Eige
 ntlich vollführt doch jeder Pinsel\, der sich über ein Blatt Papier oder
  die Leinwand bewegt\, einen kleinen Tanz. Da werden farbenfrohe Linien di
 rigiert oder in aller Ruhe Bildaufbau\, Perspektiven\, Kompositionen\, Por
 träts\, Schattierungen usw. gemeistert\, um die Visionen in den Skizzenbl
 ock\, an die Staffelei oder in die Buchpresse zu zaubern.
LOCATION:Talenticum\, Bahnhofstrasse 40a\, 8590 Romanshorn
DTSTART;TZID=Europe/Zurich:20260617T180000
DTEND;TZID=Europe/Zurich:20260617T200000
ORGANIZER:Talenticum
END:VEVENT
END:VCALENDAR
