BEGIN:VCALENDAR
VERSION:2.0
PRODID:-//Sabre//Sabre VObject 4.5.8//EN
CALSCALE:GREGORIAN
BEGIN:VEVENT
UID:sabre-vobject-c04c4a3c-4771-4fba-92f6-20061d6c52f4
DTSTAMP:20260421T082316Z
SUMMARY:Erfinder:innen-Werkstatt
DESCRIPTION:In unserer Werkstatt können mit einer Vielzahl an Materialien 
 und modernster Technik spannende Projekte verwirklicht werden\, ob mit Hol
 z\, 3D-Druck oder Lasercutter.\n 
LOCATION:Talenticum\, Bahnhofstrasse 40a\, 8590 Romanshorn
DTSTART;TZID=Europe/Zurich:20260520T140000
DTEND;TZID=Europe/Zurich:20260520T163000
ORGANIZER:Talenticum
END:VEVENT
END:VCALENDAR
