BEGIN:VCALENDAR
VERSION:2.0
PRODID:-//Sabre//Sabre VObject 4.5.8//EN
CALSCALE:GREGORIAN
BEGIN:VEVENT
UID:sabre-vobject-ace26efa-2dd3-4b7d-854f-91af93056a3d
DTSTAMP:20260421T081940Z
SUMMARY:Erfinder:innen-Werkstatt
DESCRIPTION:In unserer Werkstatt können mit einer Vielzahl an Materialien 
 und modernster Technik spannende Projekte verwirklicht werden\, ob mit Hol
 z\, 3D-Druck oder Lasercutter.\n 
LOCATION:Talenticum\, Bahnhofstrasse 40a\, 8590 Romanshorn
DTSTART;TZID=Europe/Zurich:20260610T140000
DTEND;TZID=Europe/Zurich:20260610T163000
ORGANIZER:Talenticum
END:VEVENT
END:VCALENDAR
