BEGIN:VCALENDAR
VERSION:2.0
PRODID:-//Sabre//Sabre VObject 4.5.8//EN
CALSCALE:GREGORIAN
BEGIN:VEVENT
UID:sabre-vobject-97efe15d-336d-43b9-a741-b0c31025e7f0
DTSTAMP:20260421T082114Z
SUMMARY:Robotik-Werkstatt
DESCRIPTION:Dabei sind der Fantasie fast keine Grenzen gesetzt. Gemeinsam w
 ird entwickelt\, getüftelt und programmiert. Dabei kann gewählt werden\,
  ob mit vorgefertigten Systemen wie Lego oder Fischertechnik gearbeitet od
 er ob der eigene Roboter entwickelt wird. Dafür stehen diverse Platinen (
 Calliope\, Micro:Bit\, Arduino)\, Aktoren und Sensoren zur Verfügung.\n 
LOCATION:Talenticum\, Bahnhofstrasse 40a\, 8590 Romanshorn
DTSTART;TZID=Europe/Zurich:20260610T140000
DTEND;TZID=Europe/Zurich:20260610T180000
ORGANIZER:Talenticum
END:VEVENT
END:VCALENDAR
