BEGIN:VCALENDAR
VERSION:2.0
PRODID:-//Sabre//Sabre VObject 4.5.8//EN
CALSCALE:GREGORIAN
BEGIN:VEVENT
UID:sabre-vobject-e4f2fe60-8623-4a04-9f66-9995365f18bd
DTSTAMP:20260421T082115Z
SUMMARY:TüftelClub
DESCRIPTION:Die Teilnehmenden beschäftigen sich mit digitaler Fabrikation 
 (3D-Druck\, Laserschneiden\, Plotten etc.)\, programmieren Micro-Controlle
 r\, bauen Prototypen\, stellen sich gemeinsam neuen Herausforderungen und 
 tauschen sich über allerlei technische Neuigkeiten aus.
LOCATION:Talenticum\, Bahnhofstrasse 40a\, 8590 Romanshorn
DTSTART;TZID=Europe/Zurich:20260424T170000
DTEND;TZID=Europe/Zurich:20260424T190000
ORGANIZER:Talenticum
END:VEVENT
END:VCALENDAR
