BEGIN:VCALENDAR
VERSION:2.0
PRODID:-//Sabre//Sabre VObject 4.5.8//EN
CALSCALE:GREGORIAN
BEGIN:VEVENT
UID:sabre-vobject-dd0bee8b-63c6-4f76-a14f-92e47589b16b
DTSTAMP:20260421T081932Z
SUMMARY:TüftelClub
DESCRIPTION:Die Teilnehmenden beschäftigen sich mit digitaler Fabrikation 
 (3D-Druck\, Laserschneiden\, Plotten etc.)\, programmieren Micro-Controlle
 r\, bauen Prototypen\, stellen sich gemeinsam neuen Herausforderungen und 
 tauschen sich über allerlei technische Neuigkeiten aus.
LOCATION:Talenticum\, Bahnhofstrasse 40a\, 8590 Romanshorn
DTSTART;TZID=Europe/Zurich:20260529T170000
DTEND;TZID=Europe/Zurich:20260529T190000
ORGANIZER:Talenticum
END:VEVENT
END:VCALENDAR
