BEGIN:VCALENDAR
VERSION:2.0
PRODID:-//Sabre//Sabre VObject 4.5.8//EN
CALSCALE:GREGORIAN
BEGIN:VEVENT
UID:sabre-vobject-b90753d7-ed15-4c26-8959-fed417a91d3e
DTSTAMP:20260421T081817Z
SUMMARY:TüftelClub
DESCRIPTION:Die Teilnehmenden beschäftigen sich mit digitaler Fabrikation 
 (3D-Druck\, Laserschneiden\, Plotten etc.)\, programmieren Micro-Controlle
 r\, bauen Prototypen\, stellen sich gemeinsam neuen Herausforderungen und 
 tauschen sich über allerlei technische Neuigkeiten aus.
LOCATION:Talenticum\, Bahnhofstrasse 40a\, 8590 Romanshorn
DTSTART;TZID=Europe/Zurich:20260619T170000
DTEND;TZID=Europe/Zurich:20260619T190000
ORGANIZER:Talenticum
END:VEVENT
END:VCALENDAR
