BEGIN:VCALENDAR
VERSION:2.0
PRODID:-//Sabre//Sabre VObject 4.5.8//EN
CALSCALE:GREGORIAN
BEGIN:VEVENT
UID:sabre-vobject-c59ca684-a9ed-43a2-ab7b-b47cb9578bc5
DTSTAMP:20260421T082058Z
SUMMARY:Stich für Stich
DESCRIPTION:In unserem kreativen Textilatelier stehen die Ideen der Teilneh
 menden im Mittelpunkt. Ob Nähen\, Stricken\, Häkeln oder Upcycling – h
 ier gilt\, sein Projekt mitzubringen und wir begleiten bei der Umsetzung. 
 Dabei ist es ganz egal\, ob schon Erfahrung vorhanden ist oder ob man zum 
 ersten Mal eine Nähmaschine sieht. Schritt für Schritt werden das kreati
 ve Talent entfaltet und neue Techniken erlernt. Hier kann alles ausprobier
 t\, gestaltet und gezeigt werden\, was im Einzelnen steckt. Denn: Jeder St
 ich ist ein Ausdruck der Persönlichkeit – und am Ende halten die Teilne
 hmenden etwas in der Hand\, auf das sie wirklich stolz sein können.
LOCATION:Talenticum\, Bahnhofstrasse 40a\, 8590 Romanshorn
DTSTART;TZID=Europe/Zurich:20260624T160000
DTEND;TZID=Europe/Zurich:20260624T180000
ORGANIZER:Talenticum
END:VEVENT
END:VCALENDAR
