BEGIN:VCALENDAR
VERSION:2.0
PRODID:-//Sabre//Sabre VObject 4.5.8//EN
CALSCALE:GREGORIAN
BEGIN:VEVENT
UID:sabre-vobject-08dbd31c-0cd8-4ecd-bcbf-55eb6d795784
DTSTAMP:20260421T062615Z
SUMMARY:StoryCamp
DESCRIPTION:Die Teilnehmenden erhalten Inputs und Inspiration zum kreativen
  Schreiben\, wobei sie bestimmen\, wann und wie vertieft sie diese Angebot
 e nutzen möchten.
LOCATION:Talenticum\, Bahnhofstrasse 40a\, 8590 Romanshorn
DTSTART;TZID=Europe/Zurich:20260422T150000
DTEND;TZID=Europe/Zurich:20260422T170000
ORGANIZER:Talenticum
END:VEVENT
END:VCALENDAR
