BEGIN:VCALENDAR
VERSION:2.0
PRODID:-//Sabre//Sabre VObject 4.5.8//EN
CALSCALE:GREGORIAN
BEGIN:VEVENT
UID:sabre-vobject-ead6f792-05c0-4c96-bb2f-4326a129078d
DTSTAMP:20260421T062722Z
SUMMARY:StoryCamp
DESCRIPTION:Die Teilnehmenden erhalten Inputs und Inspiration zum kreativen
  Schreiben\, wobei sie bestimmen\, wann und wie vertieft sie diese Angebot
 e nutzen möchten.
LOCATION:Talenticum\, Bahnhofstrasse 40a\, 8590 Romanshorn
DTSTART;TZID=Europe/Zurich:20260429T150000
DTEND;TZID=Europe/Zurich:20260429T170000
ORGANIZER:Talenticum
END:VEVENT
END:VCALENDAR
