BEGIN:VCALENDAR
VERSION:2.0
PRODID:-//Sabre//Sabre VObject 4.5.8//EN
CALSCALE:GREGORIAN
BEGIN:VEVENT
UID:sabre-vobject-7ca14de5-e549-4c77-ac76-fb1aceb90627
DTSTAMP:20260421T062602Z
SUMMARY:StoryCamp
DESCRIPTION:Die Teilnehmenden erhalten Inputs und Inspiration zum kreativen
  Schreiben\, wobei sie bestimmen\, wann und wie vertieft sie diese Angebot
 e nutzen möchten.
LOCATION:Talenticum\, Bahnhofstrasse 40a\, 8590 Romanshorn
DTSTART;TZID=Europe/Zurich:20260624T150000
DTEND;TZID=Europe/Zurich:20260624T170000
ORGANIZER:Talenticum
END:VEVENT
END:VCALENDAR
