BEGIN:VCALENDAR
VERSION:2.0
PRODID:-//Sabre//Sabre VObject 4.5.8//EN
CALSCALE:GREGORIAN
BEGIN:VEVENT
UID:sabre-vobject-b867abc6-56d0-486f-ae23-6c55c98971cc
DTSTAMP:20260421T062616Z
SUMMARY:StoryCamp
DESCRIPTION:Die Teilnehmenden erhalten Inputs und Inspiration zum kreativen
  Schreiben\, wobei sie bestimmen\, wann und wie vertieft sie diese Angebot
 e nutzen möchten.
LOCATION:Talenticum\, Bahnhofstrasse 40a\, 8590 Romanshorn
DTSTART;TZID=Europe/Zurich:20260701T150000
DTEND;TZID=Europe/Zurich:20260701T170000
ORGANIZER:Talenticum
END:VEVENT
END:VCALENDAR
