BEGIN:VCALENDAR
VERSION:2.0
PRODID:-//Sabre//Sabre VObject 4.5.8//EN
CALSCALE:GREGORIAN
BEGIN:VEVENT
UID:sabre-vobject-10450532-4089-421a-a09a-6e520e980d44
DTSTAMP:20260421T062602Z
SUMMARY:StoryAcademy
DESCRIPTION:Die Teilnehmenden erhalten Inputs und Inspiration zum literaris
 chen Schreiben\, wobei sie bestimmen\, wann und wie vertieft sie diese Ang
 ebote nutzen möchten.
LOCATION:Talenticum\, Bahnhofstrasse 40a\, 8590 Romanshorn
DTSTART;TZID=Europe/Zurich:20260513T180000
DTEND;TZID=Europe/Zurich:20260513T200000
ORGANIZER:Talenticum
END:VEVENT
END:VCALENDAR
