BEGIN:VCALENDAR
VERSION:2.0
PRODID:-//Sabre//Sabre VObject 4.5.8//EN
CALSCALE:GREGORIAN
BEGIN:VEVENT
UID:sabre-vobject-e9e70ce4-274e-44e9-9d73-4b2451f533b0
DTSTAMP:20260421T062723Z
SUMMARY:StoryAcademy
DESCRIPTION:Die Teilnehmenden erhalten Inputs und Inspiration zum literaris
 chen Schreiben\, wobei sie bestimmen\, wann und wie vertieft sie diese Ang
 ebote nutzen möchten.
LOCATION:Talenticum\, Bahnhofstrasse 40a\, 8590 Romanshorn
DTSTART;TZID=Europe/Zurich:20260520T180000
DTEND;TZID=Europe/Zurich:20260520T200000
ORGANIZER:Talenticum
END:VEVENT
END:VCALENDAR
