BEGIN:VCALENDAR
VERSION:2.0
PRODID:-//Sabre//Sabre VObject 4.5.8//EN
CALSCALE:GREGORIAN
BEGIN:VEVENT
UID:sabre-vobject-6d7c297e-35a5-43dc-ac32-3b3684ff162a
DTSTAMP:20260421T062605Z
SUMMARY:StoryAcademy
DESCRIPTION:Die Teilnehmenden erhalten Inputs und Inspiration zum literaris
 chen Schreiben\, wobei sie bestimmen\, wann und wie vertieft sie diese Ang
 ebote nutzen möchten.
LOCATION:Talenticum\, Bahnhofstrasse 40a\, 8590 Romanshorn
DTSTART;TZID=Europe/Zurich:20260527T180000
DTEND;TZID=Europe/Zurich:20260527T200000
ORGANIZER:Talenticum
END:VEVENT
END:VCALENDAR
