BEGIN:VCALENDAR
VERSION:2.0
PRODID:-//Sabre//Sabre VObject 4.5.8//EN
CALSCALE:GREGORIAN
BEGIN:VEVENT
UID:sabre-vobject-b22196af-bc4f-425a-80ef-dbe53feed5ab
DTSTAMP:20260421T062722Z
SUMMARY:StoryAcademy
DESCRIPTION:Die Teilnehmenden erhalten Inputs und Inspiration zum literaris
 chen Schreiben\, wobei sie bestimmen\, wann und wie vertieft sie diese Ang
 ebote nutzen möchten.
LOCATION:Talenticum\, Bahnhofstrasse 40a\, 8590 Romanshorn
DTSTART;TZID=Europe/Zurich:20260603T180000
DTEND;TZID=Europe/Zurich:20260603T200000
ORGANIZER:Talenticum
END:VEVENT
END:VCALENDAR
