BEGIN:VCALENDAR
VERSION:2.0
PRODID:-//Sabre//Sabre VObject 4.5.8//EN
CALSCALE:GREGORIAN
BEGIN:VEVENT
UID:sabre-vobject-b139b585-adea-4539-9491-123e25b3881c
DTSTAMP:20260421T062603Z
SUMMARY:StoryAcademy
DESCRIPTION:Die Teilnehmenden erhalten Inputs und Inspiration zum literaris
 chen Schreiben\, wobei sie bestimmen\, wann und wie vertieft sie diese Ang
 ebote nutzen möchten.
LOCATION:Talenticum\, Bahnhofstrasse 40a\, 8590 Romanshorn
DTSTART;TZID=Europe/Zurich:20260701T180000
DTEND;TZID=Europe/Zurich:20260701T200000
ORGANIZER:Talenticum
END:VEVENT
END:VCALENDAR
