BEGIN:VCALENDAR
VERSION:2.0
PRODID:-//Sabre//Sabre VObject 4.5.8//EN
CALSCALE:GREGORIAN
BEGIN:VEVENT
UID:sabre-vobject-22dec6e3-cca8-4354-8d1e-0c2310962feb
DTSTAMP:20260421T082332Z
SUMMARY:Produziere deine Musik
DESCRIPTION:Die Musik entsteht komplett in Eigenregie: Vom Keyboardspiel ü
 ber Sampling bis hin zum Mixing werden alle Schritte abgedeckt\, die zu ho
 chwertigen Beats und Loops führen. Am Ende können die entstandenen Werke
  nicht nur veröffentlicht\, sondern auch an renommierte internationale K
 ünstler:innen weitergegeben werden.
LOCATION:Talenticum\, Bahnhofstrasse 40a\, 8590 Romanshorn
DTSTART;TZID=Europe/Zurich:20260430T181500
DTEND;TZID=Europe/Zurich:20260430T201500
ORGANIZER:Talenticum
END:VEVENT
END:VCALENDAR
