BEGIN:VCALENDAR
VERSION:2.0
PRODID:-//Sabre//Sabre VObject 4.5.8//EN
CALSCALE:GREGORIAN
BEGIN:VEVENT
UID:sabre-vobject-f9b251ec-27e0-4271-bbba-29c82a62e6db
DTSTAMP:20260421T082058Z
SUMMARY:Produziere deine Musik
DESCRIPTION:Die Musik entsteht komplett in Eigenregie: Vom Keyboardspiel ü
 ber Sampling bis hin zum Mixing werden alle Schritte abgedeckt\, die zu ho
 chwertigen Beats und Loops führen. Am Ende können die entstandenen Werke
  nicht nur veröffentlicht\, sondern auch an renommierte internationale K
 ünstler:innen weitergegeben werden.
LOCATION:Talenticum\, Bahnhofstrasse 40a\, 8590 Romanshorn
DTSTART;TZID=Europe/Zurich:20260528T181500
DTEND;TZID=Europe/Zurich:20260528T201500
ORGANIZER:Talenticum
END:VEVENT
END:VCALENDAR
