BEGIN:VCALENDAR
VERSION:2.0
PRODID:-//Sabre//Sabre VObject 4.5.8//EN
CALSCALE:GREGORIAN
BEGIN:VEVENT
UID:sabre-vobject-b5ec18da-f020-4761-a746-0b44048221a7
DTSTAMP:20260421T081818Z
SUMMARY:DJ - Jetzt wird aufgelegt
DESCRIPTION:Eintauchen in die Grundlagen des DJings: Von Beatmatching über
  die richtige Songauswahl bis hin zur perfekten Zusammenstellung eines Set
 s.
LOCATION:Talenticum\, Bahnhofstrasse 40a\, 8590 Romanshorn
DTSTART;TZID=Europe/Zurich:20260430T160000
DTEND;TZID=Europe/Zurich:20260430T180000
ORGANIZER:Talenticum
END:VEVENT
END:VCALENDAR
