BEGIN:VCALENDAR
VERSION:2.0
PRODID:-//Sabre//Sabre VObject 4.5.8//EN
CALSCALE:GREGORIAN
BEGIN:VEVENT
UID:sabre-vobject-6ebc12d1-2e13-4fb9-bed5-af8ad32e0e96
DTSTAMP:20260421T081819Z
SUMMARY:DJ - Jetzt wird aufgelegt
DESCRIPTION:Eintauchen in die Grundlagen des DJings: Von Beatmatching über
  die richtige Songauswahl bis hin zur perfekten Zusammenstellung eines Set
 s.
LOCATION:Talenticum\, Bahnhofstrasse 40a\, 8590 Romanshorn
DTSTART;TZID=Europe/Zurich:20260507T160000
DTEND;TZID=Europe/Zurich:20260507T180000
ORGANIZER:Talenticum
END:VEVENT
END:VCALENDAR
