BEGIN:VCALENDAR
VERSION:2.0
PRODID:-//Sabre//Sabre VObject 4.5.8//EN
CALSCALE:GREGORIAN
BEGIN:VEVENT
UID:sabre-vobject-40bc8ba2-5cd5-4dc8-aded-749ee9f16f06
DTSTAMP:20260421T081938Z
SUMMARY:DJ - Jetzt wird aufgelegt
DESCRIPTION:Eintauchen in die Grundlagen des DJings: Von Beatmatching über
  die richtige Songauswahl bis hin zur perfekten Zusammenstellung eines Set
 s.
LOCATION:Talenticum\, Bahnhofstrasse 40a\, 8590 Romanshorn
DTSTART;TZID=Europe/Zurich:20260521T160000
DTEND;TZID=Europe/Zurich:20260521T180000
ORGANIZER:Talenticum
END:VEVENT
END:VCALENDAR
