BEGIN:VCALENDAR
VERSION:2.0
PRODID:-//Sabre//Sabre VObject 4.5.8//EN
CALSCALE:GREGORIAN
BEGIN:VEVENT
UID:sabre-vobject-e80d80d1-8f11-42ec-b9a7-8ef82e0a4202
DTSTAMP:20260421T082316Z
SUMMARY:DJ - Jetzt wird aufgelegt
DESCRIPTION:Eintauchen in die Grundlagen des DJings: Von Beatmatching über
  die richtige Songauswahl bis hin zur perfekten Zusammenstellung eines Set
 s.
LOCATION:Talenticum\, Bahnhofstrasse 40a\, 8590 Romanshorn
DTSTART;TZID=Europe/Zurich:20260618T160000
DTEND;TZID=Europe/Zurich:20260618T180000
ORGANIZER:Talenticum
END:VEVENT
END:VCALENDAR
