BEGIN:VCALENDAR
VERSION:2.0
PRODID:-//Sabre//Sabre VObject 4.5.8//EN
CALSCALE:GREGORIAN
BEGIN:VEVENT
UID:sabre-vobject-502ca6d0-3819-45ce-832e-21c44280024e
DTSTAMP:20260421T082316Z
SUMMARY:DJ - Jetzt wird aufgelegt
DESCRIPTION:Eintauchen in die Grundlagen des DJings: Von Beatmatching über
  die richtige Songauswahl bis hin zur perfekten Zusammenstellung eines Set
 s.
LOCATION:Talenticum\, Bahnhofstrasse 40a\, 8590 Romanshorn
DTSTART;TZID=Europe/Zurich:20260625T160000
DTEND;TZID=Europe/Zurich:20260625T180000
ORGANIZER:Talenticum
END:VEVENT
END:VCALENDAR
