BEGIN:VCALENDAR
VERSION:2.0
PRODID:-//Sabre//Sabre VObject 4.5.8//EN
CALSCALE:GREGORIAN
BEGIN:VEVENT
UID:sabre-vobject-4cf08232-6823-4803-bfe4-1ef43c049697
DTSTAMP:20260421T100329Z
SUMMARY:Frühlingskonzert Musikverein Weinfelden
DESCRIPTION:Der Musikverein Weinfelden freut sich auf viele Besucher:innen 
 zu seinem Frühlingskonzert. Für den musikalischen Auftakt sorgt wieder e
 inmal mehr die "Jungi Musig on Thur" mit schmissigen Melodien.\nEin Konzer
 tabend mit abwechslungsreicher Musik\, Tombola\, Festwirtschaft und Barbet
 rieb.
LOCATION:Kongresszentrum Thurgauerhof\, Felsenstrasse 6\, 8570 Weinfelden
DTSTART;TZID=Europe/Zurich:20260513T200000
DTEND;TZID=Europe/Zurich:20260513T200000
ORGANIZER:Musikverein Weinfelden
END:VEVENT
END:VCALENDAR
