BEGIN:VCALENDAR
VERSION:2.0
PRODID:-//Sabre//Sabre VObject 4.5.8//EN
CALSCALE:GREGORIAN
BEGIN:VEVENT
UID:sabre-vobject-505f02d5-ac5f-4647-b540-d62f6c4a35c4
DTSTAMP:20260421T100028Z
SUMMARY:Sek Weinfelden in Concert
DESCRIPTION:Türöffnung 13.15 Uhr und 19 Uhr
LOCATION:Kongresszentrum Thurgauerhof\, Felsenstrasse 6\, 8570 Weinfelden
DTSTART;TZID=Europe/Zurich:20260612T193000
DTEND;TZID=Europe/Zurich:20260612T210000
ORGANIZER:Samuel Curau
END:VEVENT
END:VCALENDAR
