BEGIN:VCALENDAR
VERSION:2.0
PRODID:-//Sabre//Sabre VObject 4.5.8//EN
CALSCALE:GREGORIAN
BEGIN:VEVENT
UID:sabre-vobject-7284077a-6160-4b06-93ce-27f6daef8c3b
DTSTAMP:20260421T010241Z
SUMMARY:Les Touristes
DESCRIPTION:Das neue Album\, das nach Sommer\, Freiheit und einem leichten 
 Schwips klingt Les Touristes melden sich zurück – und zwar so entspannt
 \, beschwingt und charmant beschwipst wie noch nie. In Zusammenarbeit mit 
 der Hitmill AG\, einer der renommiertesten Produktionsschmieden der Schwei
 z\, entsteht gerade ihr neues Album „tutto bene. Der Titel ist Programm.
  \\n\\nMusikalisch treten Les Touristes mit «tutto bene» in neuer Frisch
 e an: Die Songs kommen wie aus einem Guss\, mit viel Brass\, stampfenden A
 frobeats\, unverschämt vielen Claps und einem neuen Soundgewand\, das sof
 ort hängen bleibt. Damit setzt die Band zum vielleicht wichtigsten Schrit
 t ihrer Karriere an – sich endgültig in der Schweizer Musikszene einzun
 isten. \\n\\nDie erste Single erscheint nächsten Sommer – rechtzeitig\,
  um jede Gartenparty\, Badi-Liegewiese und Gondelbahn vibrieren zu lassen.
  Im Herbst 2026 folgt das ganze Album\, begleitet von der grössten Albumt
 our ihrer Geschichte. Mit «tutto bene» liefern Les Touristes Musik für 
 Menschen\, die das Leben nicht immer ernst nehmen und dafür umso mehr gen
 iessen wollen. Abschweifen erlaubt.\\n\\n
LOCATION:Kulturzentrum Presswerk\, Hamelstrasse 15\, 9320 Arbon
DTSTART;TZID=Europe/Zurich:20261128T200000
DTEND;TZID=Europe/Zurich:20261128T200000
ORGANIZER:Ticketcorner
END:VEVENT
END:VCALENDAR
