BEGIN:VCALENDAR
VERSION:2.0
PRODID:-//Sabre//Sabre VObject 4.5.8//EN
CALSCALE:GREGORIAN
BEGIN:VEVENT
UID:sabre-vobject-26703f8b-4ebe-44b4-8ab3-49266bf9965a
DTSTAMP:20260421T013650Z
SUMMARY:Glauser Quintett
DESCRIPTION:In seiner neusten Produktion präsentiert das Glauser Quintett 
 zu viert den Roman „Ich komme mit“ von Angelika Waldis in einer engen 
 Verzahnung von Literatur\, Musik und Theater. Die Musik wurde Daniel R. Sc
 hneider speziell für dieses Programm komponiert.\nZum Stück: Ein junger 
 Student mit Leukämie-Diagnose und eine alte\, des Lebens langsam überdr
 üssige Witwe freunden sich an und begeben sich zusammen auf eine verrück
 te letzte Reise. Der Roman von Angelika Waldis erzählt eine berührende G
 eschichte über das Leben und über den Tod\, mit feinen Zwischentönen un
 d viel schwarzem Humor.\nEnsemble \\nMarkus Keller: Schauspiel\\nDaniel 
 R. Schneider:  Keyboards\, Gitarre\\nSibylle Bremi: Violoncello\\nMartin 
 Schumacher: Klarinette\, Baritonsaxophon\, Maultrommel
LOCATION:Kulturzentrum Kult-X\, Hafenstrasse 8\, 8280 Kreuzlingen
DTSTART;TZID=Europe/Zurich:20260508T200000
DTEND;TZID=Europe/Zurich:20260508T200000
ORGANIZER:Theater an der Grenze
END:VEVENT
END:VCALENDAR
