BEGIN:VCALENDAR
VERSION:2.0
PRODID:-//Sabre//Sabre VObject 4.5.8//EN
CALSCALE:GREGORIAN
BEGIN:VEVENT
UID:sabre-vobject-70b92150-88d8-47ed-8540-0203c8adb75f
DTSTAMP:20260421T025900Z
SUMMARY:Shirley Holmes -  iedereen und Moltke und Mörike
DESCRIPTION:Der April wird mit einem feinen\, punkigen Lineup beendet. \nS
 hirley Holmes\\nAb Sekunde 1 drücken Shirley Holmes auf die Tube und stec
 ken mit ihrer Live-Energie sofort an. Tumultige Battle-Gesangsparts und ei
 n unbestechlicher Komm-du-willst-es-doch-auch-Charme treffen auf smart-rot
 zige Texte und treibende Melodien\, die es dringend nahelegen zu tanzen. N
 achzuhören auch auf den bisherigen klangvoll betitelten Studioalben „He
 avy Chansons“\, „Schnelle Nummern“\, „Die Krone der Erschöpfung
 ” und “Mein bestes Selbst”. Über viele Live-Konzerte hinweg haben S
 hirley Holmes in etlichen kleinen und großen Clubs und Festivals das ausg
 efeilt\, was Bühnenpräsenz genannt wird und Bands supportet wie Die Ärz
 te\, Beatsteaks\, Egotronic\, Alarmsignal u.v.m. File under: “Voll auf d
 ie 12”\, “Sport mit Gitarren” und “Breites Grinsen im Gesicht”.\
 n \niedereen \\niedereen – das ist dieses sehr liebe Punkduo mit dem s
 ehr schwergängigen Namen. Daran hat sich bisher nichts geändert. Wird we
 iterhin ständig falsch ausgesprochen. Dabei ist das doch nur das niederl
 ändische Wort für „alle“. Easy\, oder?\n \nMoltke und Mörike\\nPog
 o-Chaos\, Selbstzweifel und den Nazi-Nachbarn vor die Türe scheißen. Das
  ist Moltke&amp\;Mörike\, Punkmusik mit Indie-Vibes auf Deutsch. Kann man
  musikalisch das Rad noch neu erfinden? Wahrscheinlich nicht. Im Punk sowi
 eso nicht und erst recht nicht in Ulm. Mit der richtigen Authentizität is
 t das auch egal\, denn Moltke&amp\;Mörike kommen ganz unprätentiös dahe
 r und besingen zwischen Garagen-Sound und Indie-Ballade eine Welt\, die me
 hr Fragen aufwirft als beantwortet. Im Oktober 2023. Ballert wie die Strok
 es auf Speed.
LOCATION:Kulturladen Konstanz\, Joseph-Belli-Weg 5\, 78467 Konstanz
DTSTART;TZID=Europe/Zurich:20260430T200000
DTEND;TZID=Europe/Zurich:20260430T200000
ORGANIZER:Kulturladen Konstanz e. V.
END:VEVENT
END:VCALENDAR
