BEGIN:VCALENDAR
VERSION:2.0
PRODID:-//Sabre//Sabre VObject 4.5.8//EN
CALSCALE:GREGORIAN
BEGIN:VEVENT
UID:sabre-vobject-47f42f7b-9f64-4439-b834-9807a6b2b4cf
DTSTAMP:20260421T024802Z
SUMMARY:Malaka Hostel
DESCRIPTION:Beats\, die Brücken schlagen. Ein musikalisches Feuerwerk der 
 Vielfalt.\nMit ihrer explosiven Mischung\, die die Band selbst als Global 
 Umpa bezeichnet\, reißen Malaka Hostel spielend die unsichtbare Mauer zwi
 schen Band und Publikum nieder. Folkloristisches\, egal ob vom Balkan oder
  aus den Anden\, fi ndet seinen Platz - getragen von Malaka Hostels groove
 nden Beats\, während die aus Trompeten und Mundharmonika bestehende Brass
  Section lossprudelt.\nIm März 2026 erscheint ihr drittes Studioalbum Bru
 cca Beat – ein Soundtrack für das Verbindende in bewegten Zeiten. Malak
 a Hostel schlagen darin Brücken zwischen Menschen\, Sprachen und musikali
 schen Welten.\nIm Frühjahr 2026 sind die Kojoten wieder auf Tour – mit 
 klarer Mission: kollektive Tanz-Ekstase.
LOCATION:Kulturladen Konstanz\, Joseph-Belli-Weg 5\, 78467 Konstanz
DTSTART;TZID=Europe/Zurich:20260424T200000
DTEND;TZID=Europe/Zurich:20260424T200000
ORGANIZER:Kulturladen Konstanz e. V.
END:VEVENT
END:VCALENDAR
