BEGIN:VCALENDAR
VERSION:2.0
PRODID:-//Sabre//Sabre VObject 4.5.8//EN
CALSCALE:GREGORIAN
BEGIN:VEVENT
UID:sabre-vobject-c7530651-fd4c-4e69-95ca-0c8d6d746392
DTSTAMP:20260421T024800Z
SUMMARY:Ikan Hyu
DESCRIPTION:Die explosiven Live Shows von Ikan Hyu sind aus der Europäisch
 en Musiklandschaft nicht mehr wegzudenken. Die Art und Weise wie sie zu zw
 eit die Wucht einer ‘ganzen Band’ erschaffen\, ist so einzigartig wie 
 der Sound\, der dabei entsteht: frei\, glitchy\, schön\, tiefgründig und
  unberechenbar.\nDie beiden Frontfrauen spielen je bis zu drei Instrumente
  gleichzeitig – bei Hannah sind es akustische und elektronische Drum-Ele
 mente\, ein Kaossilator und ein Synth Bass\, bei Anisa ein Drumpad und ein
  selber designter E-Gitarre/Keyboard Hybrid\, damit sie gleichzeitig Gitar
 re und Bass spielen kann. Dazu singen beide abwechselnd oder zusammen.\nEr
 gänzt durch Artworks\, Merchandise-Artikel\, Lichtelemente und Bühnenout
 fits\, alles DIY\, erschafft das Duo ein ganzes Universum. All the fishes 
 in the sea\, get away cuz here comes she: Ikan Hyu
LOCATION:Kulturladen Konstanz\, Joseph-Belli-Weg 5\, 78467 Konstanz
DTSTART;TZID=Europe/Zurich:20261022T200000
DTEND;TZID=Europe/Zurich:20261022T200000
ORGANIZER:Kulturladen Konstanz e. V.
END:VEVENT
END:VCALENDAR
