BEGIN:VCALENDAR
VERSION:2.0
PRODID:-//Sabre//Sabre VObject 4.5.8//EN
CALSCALE:GREGORIAN
BEGIN:VEVENT
UID:sabre-vobject-9489b3e1-ae6d-4c56-baf5-76e909f76810
DTSTAMP:20260421T024809Z
SUMMARY:Herr Jan und seine Superbänd
DESCRIPTION:Jan. Jan Sedgwick. Herr Sedgwick. Oder doch lieber Herr Jan? So
  jedenfalls nannten ihn Kinder in seiner Zeit als Erlebnispädagoge. Herr 
 Jan - der es vorzieht geduzt zu werden - mochte diese Namensgebung und zog
  mit ihr in sein musikalisches Schaffen ein.\nDie Musik von Herr Jan läss
 t sich beschreiben mit: viele Genres\, viele Gefühle. Aus der Zartheit vo
 n Singer-Songwriter-Pop\, der Entspanntheit von Reggae und der Ausgelassen
 heit von Hip-Hop entwickelt Herr Jan detailverliebte Kompositionen und meh
 rstimmige Melodien. Er kreiert musikalische Landschaften für gleichermaß
 en einladende\, nachdenkliche wie stärkende Themen\, die die meisten Fami
 lien sowohl aus dem Alltag als auch aus Gesprächen über die großen Frag
 en des Lebens kennen. Dem weiten Feld der Gefühle wird hierin ein besonde
 rer Platz eingeräumt. \nEin Herr Jan Konzert ist ein buntes Abenteuer f
 ür die ganze Familie. Gute\, handgemachte Musik wird auf der Bühne meist
 ens noch besser – das gilt auch für die Lieder von Herr Jan und so läs
 st er gemeinsam mit seiner Superbänd in Trio- bis Quintett-Besetzung kein
 e Gelegenheit aus\, seine Songs auf Festivals\, Open Airs oder Clubs live 
 zu spielen\, auf denen er wischen Stagepiano\, Kazoo und Gitarre über die
  Bühne rappt\, singt und aus dem Leben erzählt. \n"Mit meiner Superbän
 d nehmen wir das Publikum mit auf ein Abenteuer und schaffen eine Atmosph
 äre\, die gut tut und richtig Spaß macht. Meine Konzerte sind echt und g
 arantiert ohne Playback\, denn alle haben ein Recht auf gute Live-Musik.
 “ \nIm Kinderradio laufen seine Songs rauf und runter\, er ist immer wi
 eder im TV-Sender KiKa zu sehen\, wurde zum Jurysieger des deutschen Kinde
 rliederpreises 2018 und 2019 gekürt und erhielt den ersten Publikumspreis
  der renommierten Christiane Weber Stiftung. Mit diesem Rückenwind und ne
 uen Songs im Gepäck reist er quer durch die Republik.
LOCATION:Kulturladen Konstanz\, Joseph-Belli-Weg 5\, 78467 Konstanz
DTSTART;TZID=Europe/Zurich:20261107T150000
DTEND;TZID=Europe/Zurich:20261107T150000
ORGANIZER:Kulturladen Konstanz e. V.
END:VEVENT
END:VCALENDAR
