BEGIN:VCALENDAR
VERSION:2.0
PRODID:-//Sabre//Sabre VObject 4.5.8//EN
CALSCALE:GREGORIAN
BEGIN:VEVENT
UID:sabre-vobject-ef1db87c-cc49-4ec2-a14c-fb2a385b2464
DTSTAMP:20260421T024808Z
SUMMARY:Richards Kindermusikladen
DESCRIPTION:Richards Kindermusikladen gehört mittlerweile zu den festen Gr
 ößen im Bereich der familientauglichen Musik. Seine Songs handeln vom ch
 aotischen Familienalltag\, kleinen Spinnereien und lustigen Entdeckungen.
  \nMusik mit Groove und Herz für Kinder und deren Erwachsene\, fantasiev
 olle Texte zum Nachfragen und Weiterspinnen. Organische Rhythmen\, echte I
 nstrumente\, kein Schlumpfgummipop! Auf den einschlägigen Kinderkanälen 
 und verschiedenen CDCompilations sind Richards Ohrwürmer längst zu Hause
  und das Musikvideo zum Hit P.O.M.M.E.S. verzeichnet im Gesamtklickzahlen 
 von über 250.000! \nNach dem Album „Mucksmäuschenlaut“ folgte das n
 eue Werk “Auf Zack”. Brandneue Lieder komplett mit der RKM-Band einges
 pielt. Live steht RKM solo mit Gitarre oder mit kompletter Band auf der B
 ühne und macht immer gemeinsame Sache mit dem Publikum - Mitmachen könne
 n alle.\nHinter dem Projekt steckt Richard Haus\, der als P.R. Kantate den
  Sommerhit Görli Görli landete. Er ist festes Mitglied der radioeins-Rad
 io-Show und gibt als Musiker\, Musikproduzent\, Moderator\, Sprecher\, Dar
 steller und Geräuschemacher in diesen Bereichen Kurse\, Workshops und For
 tbildungen für Kinder\, Jugendliche und Erwachsene. \nEin wahres Multi-T
 alent.
LOCATION:Kulturladen Konstanz\, Joseph-Belli-Weg 5\, 78467 Konstanz
DTSTART;TZID=Europe/Zurich:20260926T150000
DTEND;TZID=Europe/Zurich:20260926T150000
ORGANIZER:Kulturladen Konstanz e. V.
END:VEVENT
END:VCALENDAR
