BEGIN:VCALENDAR
VERSION:2.0
PRODID:-//Sabre//Sabre VObject 4.5.8//EN
CALSCALE:GREGORIAN
BEGIN:VEVENT
UID:sabre-vobject-25701c8f-7ae8-4080-89fc-61e549bc2766
DTSTAMP:20260421T025859Z
SUMMARY:Familienkonzert im KULA: Randale
DESCRIPTION:22 Jahre Randale als ob Die Ärzte gemeinsam mit den Ramones un
 d Iggy Pop Kindermusik machen würden.\nRandale machen Rockmusik für Kind
 er. Eigentlich sogar Rockmusik für die ganze Familie. Manchmal sogar für
  Leute\, die gar keine Kinder haben. Jedenfalls keine eigenen. Die leihen 
 sich dann welche\, damit sie bei den Konzerten nicht so auffallen. Und das
  Konzept ist einfach: geradlinig gespielte Songs mit pfiffigen Texten\, be
 i denen Erwachsene nicht schreiend weglaufen müssen. Bei Randale sitzen a
 lle in einem Boot: Eltern\, Kinder\, Musiker.\nAlle haben Spaß\, viel Spa
 ß\, sensationell viel Spaß. Das liegt zum einen an der Vielfalt der gesp
 ielten Stile. Von Rock über Punk und Metal bis hin zu Reggae\, Ska\, Folk
  und Pop. Zum anderen natürlich auch an den gelungenen Texten. Die handel
 n vom Rock’n’Roll\, vom Hardrockhasen Harald\, vom ABC\, von Pommes od
 er der Rettung von Hühnern aus der Legebatterie. Nebenbei lernen die Kids
  mit dem Punkpanda Peter alles über Stagedving\, Crowdsurfing oder einen 
 gelungenen Circle Pit.\nImmer mit Augenzwinkern. Nie mit erhobenem Zeigefi
 nger. Die Konzerte finden oft auf großen Bühnen und Festivals statt. Imm
 er mehr Clubs wie das SO36 in Berlin\, der Fabrik Hamburg oder das Roxy in
  Ulm kommen dazu. Festivals wie das Summer Breeze in Dinkelsbühl\, das Op
 en Flair in Eschwege oder das Orange Blossom in Beverungen waren schon im 
 Tourplan. Aber auch Konzerte an Grundschulen und in Kindergärten sind mö
 glich und werden gerne und mit Begeisterung gespielt.\nWas 2004 als Idee f
 ür eigentlich nur eine einzige CD gedacht war\, hat sich mittlerweile vir
 usmäßig über große Teile Deutschlands ausgeweitet. 13CDs sind bislang 
 erschienen. Beheimatet in Bielefeld / Ostwestfalen-Lippe\, spielen die 4 R
 andale-Männer von Ulm bis Hamburg\, von Köln bis Berlin\, von Frankfurt 
 bis Bremen. Und regelmäßig auch auf der schönen Insel Föhr\, mitten im
  Wattenmeer der Nordsee.
LOCATION:Kulturladen Konstanz\, Joseph-Belli-Weg 5\, 78467 Konstanz
DTSTART;TZID=Europe/Zurich:20260613T150000
DTEND;TZID=Europe/Zurich:20260613T150000
ORGANIZER:Kulturladen Konstanz e. V.
END:VEVENT
END:VCALENDAR
