BEGIN:VCALENDAR
VERSION:2.0
PRODID:-//Sabre//Sabre VObject 4.5.8//EN
CALSCALE:GREGORIAN
BEGIN:VEVENT
UID:sabre-vobject-2bbb372e-3de5-44fc-be43-10bfc59acf84
DTSTAMP:20260421T013650Z
SUMMARY:Spieleabend
DESCRIPTION:Es wird ein angenehmer Abend in geselliger Atmosphäre mit spie
 linteressierten Teilnehmenden erwartet. Vorkenntnisse zu den Spielen sind 
 nicht erforderlich. Auch Personen ohne Mitgliedschaft in der Ludothek oder
  ohne vorherige Anmeldung können teilnehmen.\nGetränke und kleine Knabbe
 reien sind vorhanden\, die Spiele stehen bereit – es sind noch Plätze a
 m Tisch frei.
LOCATION:Kulturzentrum Kult-X\, Hafenstrasse 8\, 8280 Kreuzlingen
DTSTART;TZID=Europe/Zurich:20260424T193000
DTEND;TZID=Europe/Zurich:20260424T230000
ORGANIZER:Ludothek Kreuzlingen
END:VEVENT
END:VCALENDAR
